0.24999999999999
0.00000000000000
0.00000000000000
-0.24999999999999
-179.95833332393156
-89.95837393961196
