10.0000000000
0.0000000000
0.0000000000
-10.0000000000
630005.0000000000
228495.0000000000
