1.000000000000000
0.000000000000000
0.000000000000000
-1.000000000000000
2090000.500000000000000
724999.500000000000000
