BEGIN_USGS_DOQ_HEADER *
QUADRANGLE_NAME "LAKE WHEELER" *
QUADRANT SE *
WEST_LONGITUDE -78 41 15 *
EAST_LONGITUDE -78 37 30 *
NORTH_LATITUDE 35 41 15 *
SOUTH_LATITUDE 35 37 30 *
PRODUCTION_DATE 2002 07 25 *
RASTER_ORDER LEFT_RIGHT/TOP_BOTTOM *
BAND_ORGANIZATION BIP *
BAND_CONTENT RED *
BAND_CONTENT GREEN *
BAND_CONTENT BLUE *
BITS_PER_PIXEL 8 *
SAMPLES_AND_LINES 6291 7554 *
HORIZONTAL_DATUM nad83 *
HORIZONTAL_COORDINATE_SYSTEM spcs *
COORDINATE_ZONE 3200 *
HORIZONTAL_UNITS meters *
HORIZONTAL_RESOLUTION 1.000 *
SECONDARY_HORIZONTAL_DATUM nad27 *
XY_ORIGIN 637594.000 215302.000 *
SECONDARY_XY_ORIGIN 637570.154 215278.868 *
NATION US *
STATE NC *
NW_QUAD_CORNER_XY 637885.279 214973.976 *
NE_QUAD_CORNER_XY 643542.067 214993.565 *
SE_QUAD_CORNER_XY 643568.260 208059.785 *
SW_QUAD_CORNER_XY 637907.107 208040.181 *
SECONDARY_NW_QUAD_XY 637885.945 214968.030 *
SECONDARY_NE_QUAD_XY 643542.865 214987.618 *
SECONDARY_SE_QUAD_XY 643569.058 208054.018 *
SECONDARY_SW_QUAD_XY 637907.772 208034.415 *
RMSE_XY 2.900 *
IMAGE_SOURCE "COLOR INFRA-RED FILM" *
SOURCE_IMAGE_ID "NAPP 10745 049" *
SOURCE_IMAGE_DATE 1998 03 08 *
SOURCE_DEM_DATE 1993 01 01 *
AGENCY "WESTERN MAPPING CENTER (WMC)" *
PRODUCER "WESTERN MAPPING CENTER (WMC)" *
PRODUCTION_SYSTEM "DV2.6.4 1/00 OV2.6 6/00" *
STANDARD_VERSION 1996 12 *
METADATA_DATE 2002 09 17 *
DATA_FILE_SIZE 142585515 *
BYTE_COUNT 18873 * * * * * * * * * * * * * * * * * * * * * * * * * * * * * * * * * * * * * * * * * * * * * * * * * * * * * * * * * * * * * * * * * * * * * * * * * * * * * * * * * * * * * * * * * * * * * * * * * * * * * * * * * * * * * * * * * * * * * * * * * * * * * * * * * * * * * * * * * * * * * * * * * * * * * * * * * * * * * * * * * * * * * * * * * * * * * * * * * * * * * * * * * * * * * * ************************************************************************
END_USGS_HEADER *
