1.000000000000000
0.000000000000000
0.000000000000000
-1.000000000000000
637594.000000000000000
215302.000000000000000
