28.5000000000
0.0000000000
0.0000000000
-28.5000000000
629994.2500000000
228513.0000000000
