1.0000000000
0.0000000000
0.0000000000
-1.0000000000
638300.5000000000
220749.5000000000
