1.0000000000
0.0000000000
0.0000000000
-1.0000000000
637033.5000000000
222503.5000000000
